Package: biomvRCNS Version: 1.44.0 Command: /Library/Frameworks/R.framework/Resources/bin/R CMD check --install=check:biomvRCNS.install-out.txt --library=/Library/Frameworks/R.framework/Resources/library --no-vignettes --timings biomvRCNS_1.44.0.tar.gz StartedAt: 2024-06-09 19:02:47 -0400 (Sun, 09 Jun 2024) EndedAt: 2024-06-09 19:12:10 -0400 (Sun, 09 Jun 2024) EllapsedTime: 562.7 seconds RetCode: 0 Status: OK CheckDir: biomvRCNS.Rcheck Warnings: 0