Package: biomvRCNS Version: 1.44.0 Command: rm -rf biomvRCNS.buildbin-libdir && mkdir biomvRCNS.buildbin-libdir && /Users/biocbuild/BBS/utils/build-universal.sh biomvRCNS_1.44.0.tar.gz /Library/Frameworks/R.framework/Resources/bin/R biomvRCNS.buildbin-libdir StartedAt: 2024-10-17 15:43:46 -0400 (Thu, 17 Oct 2024) EndedAt: 2024-10-17 15:45:55 -0400 (Thu, 17 Oct 2024) EllapsedTime: 129.7 seconds RetCode: 0 Status: OK PackageFile: biomvRCNS_1.44.0.tgz PackageFileSize: 1.257 MiB