Package: biotmle Version: 1.28.0 Command: rm -rf biotmle.buildbin-libdir && mkdir biotmle.buildbin-libdir && /Users/biocbuild/BBS/utils/build-universal.sh biotmle_1.28.0.tar.gz /Library/Frameworks/R.framework/Resources/bin/R biotmle.buildbin-libdir StartedAt: 2024-10-18 17:32:48 -0400 (Fri, 18 Oct 2024) EndedAt: 2024-10-18 17:33:27 -0400 (Fri, 18 Oct 2024) EllapsedTime: 38.3 seconds RetCode: 0 Status: OK PackageFile: biotmle_1.28.0.tgz PackageFileSize: 364.8 KiB