Package: biotmle Version: 1.28.0 Command: /Library/Frameworks/R.framework/Resources/bin/R CMD INSTALL biotmle StartedAt: 2024-10-16 18:48:09 -0400 (Wed, 16 Oct 2024) EndedAt: 2024-10-16 18:48:39 -0400 (Wed, 16 Oct 2024) EllapsedTime: 30.1 seconds RetCode: 0 Status: OK