Package: biotmle Version: 1.28.0 Command: /Library/Frameworks/R.framework/Resources/bin/R CMD INSTALL biotmle StartedAt: 2024-10-16 16:45:19 -0400 (Wed, 16 Oct 2024) EndedAt: 2024-10-16 16:46:19 -0400 (Wed, 16 Oct 2024) EllapsedTime: 59.6 seconds RetCode: 0 Status: OK