Package: biotmle Version: 1.28.0 Command: chmod a+r biotmle -R && F:\biocbuild\bbs-3.19-bioc\R\bin\R.exe CMD build --keep-empty-dirs --no-resave-data biotmle StartedAt: 2024-06-26 17:27:59 -0400 (Wed, 26 Jun 2024) EndedAt: 2024-06-26 17:30:22 -0400 (Wed, 26 Jun 2024) EllapsedTime: 142.7 seconds RetCode: 0 Status: OK PackageFile: biotmle_1.28.0.tar.gz PackageFileSize: 270.5 KiB