Package: biotmle Version: 1.28.0 Command: rm -rf biotmle.buildbin-libdir && mkdir biotmle.buildbin-libdir && E:\biocbuild\bbs-3.19-bioc\R\bin\R.exe CMD INSTALL --build --library=biotmle.buildbin-libdir biotmle_1.28.0.tar.gz StartedAt: 2024-10-17 07:26:27 -0400 (Thu, 17 Oct 2024) EndedAt: 2024-10-17 07:26:58 -0400 (Thu, 17 Oct 2024) EllapsedTime: 31.5 seconds RetCode: 0 Status: OK PackageFile: biotmle_1.28.0.zip PackageFileSize: 324.9 KiB