Package: biotmle Version: 1.28.0 Command: E:\biocbuild\bbs-3.19-bioc\R\bin\R.exe CMD check --no-multiarch --install=check:biotmle.install-out.txt --library=E:\biocbuild\bbs-3.19-bioc\R\library --no-vignettes --timings biotmle_1.28.0.tar.gz StartedAt: 2024-10-16 23:23:45 -0400 (Wed, 16 Oct 2024) EndedAt: 2024-10-16 23:29:22 -0400 (Wed, 16 Oct 2024) EllapsedTime: 337.2 seconds RetCode: 0 Status: OK CheckDir: biotmle.Rcheck Warnings: 0