Package: biovizBase Version: 1.52.0 Command: /Library/Frameworks/R.framework/Resources/bin/R CMD check --install=check:biovizBase.install-out.txt --library=/Library/Frameworks/R.framework/Resources/library --no-vignettes --timings biovizBase_1.52.0.tar.gz StartedAt: 2024-10-17 14:16:03 -0400 (Thu, 17 Oct 2024) EndedAt: 2024-10-17 14:23:08 -0400 (Thu, 17 Oct 2024) EllapsedTime: 424.7 seconds RetCode: 0 Status: WARNINGS CheckDir: biovizBase.Rcheck Warnings: 2