Package: biovizBase Version: 1.52.0 Command: /Library/Frameworks/R.framework/Resources/bin/R CMD INSTALL biovizBase StartedAt: 2024-10-16 16:00:31 -0400 (Wed, 16 Oct 2024) EndedAt: 2024-10-16 16:02:08 -0400 (Wed, 16 Oct 2024) EllapsedTime: 97.2 seconds RetCode: 0 Status: OK