Package: biovizBase Version: 1.52.0 Command: rm -rf biovizBase.buildbin-libdir && mkdir biovizBase.buildbin-libdir && F:\biocbuild\bbs-3.19-bioc\R\bin\R.exe CMD INSTALL --build --library=biovizBase.buildbin-libdir biovizBase_1.52.0.tar.gz StartedAt: 2024-06-27 07:54:49 -0400 (Thu, 27 Jun 2024) EndedAt: 2024-06-27 07:55:56 -0400 (Thu, 27 Jun 2024) EllapsedTime: 67.1 seconds RetCode: 0 Status: OK PackageFile: biovizBase_1.52.0.zip PackageFileSize: 2.558 MiB