Package: blacksheepr Version: 1.18.0 Command: /Library/Frameworks/R.framework/Resources/bin/R CMD build --keep-empty-dirs --no-resave-data blacksheepr StartedAt: 2024-10-16 20:34:12 -0400 (Wed, 16 Oct 2024) EndedAt: 2024-10-16 20:36:42 -0400 (Wed, 16 Oct 2024) EllapsedTime: 150.1 seconds RetCode: 0 Status: OK PackageFile: blacksheepr_1.18.0.tar.gz PackageFileSize: 4.227 MiB