Package: blacksheepr Version: 1.18.0 Command: /home/biocbuild/R/R-beta-2024-04-15_r86425/bin/R CMD build --keep-empty-dirs --no-resave-data blacksheepr StartedAt: 2024-05-08 22:51:36 -0000 (Wed, 08 May 2024) EndedAt: 2024-05-08 22:55:06 -0000 (Wed, 08 May 2024) EllapsedTime: 209.3 seconds RetCode: 0 Status: OK PackageFile: blacksheepr_1.18.0.tar.gz PackageFileSize: 4.031 MiB