Package: blacksheepr Version: 1.18.0 Command: /home/biocbuild/R/R-beta-2024-04-15_r86425/bin/R CMD INSTALL blacksheepr StartedAt: 2024-05-08 20:55:58 -0000 (Wed, 08 May 2024) EndedAt: 2024-05-08 20:56:31 -0000 (Wed, 08 May 2024) EllapsedTime: 33.0 seconds RetCode: 0 Status: OK