Package: blacksheepr Version: 1.18.0 Command: rm -rf blacksheepr.buildbin-libdir && mkdir blacksheepr.buildbin-libdir && /Users/biocbuild/BBS/utils/build-universal.sh blacksheepr_1.18.0.tar.gz /Library/Frameworks/R.framework/Resources/bin/R blacksheepr.buildbin-libdir StartedAt: 2024-10-17 15:44:27 -0400 (Thu, 17 Oct 2024) EndedAt: 2024-10-17 15:45:23 -0400 (Thu, 17 Oct 2024) EllapsedTime: 55.8 seconds RetCode: 0 Status: OK PackageFile: blacksheepr_1.18.0.tgz PackageFileSize: 4.285 MiB