Package: blacksheepr Version: 1.18.0 Command: /home/biocbuild/bbs-3.19-bioc/R/bin/R CMD INSTALL blacksheepr StartedAt: 2024-10-16 16:35:08 -0400 (Wed, 16 Oct 2024) EndedAt: 2024-10-16 16:35:32 -0400 (Wed, 16 Oct 2024) EllapsedTime: 23.9 seconds RetCode: 0 Status: OK