Package: blacksheepr Version: 1.18.0 Command: rm -rf blacksheepr.buildbin-libdir && mkdir blacksheepr.buildbin-libdir && F:\biocbuild\bbs-3.19-bioc\R\bin\R.exe CMD INSTALL --build --library=blacksheepr.buildbin-libdir blacksheepr_1.18.0.tar.gz StartedAt: 2024-06-27 07:54:57 -0400 (Thu, 27 Jun 2024) EndedAt: 2024-06-27 07:55:32 -0400 (Thu, 27 Jun 2024) EllapsedTime: 34.9 seconds RetCode: 0 Status: OK PackageFile: blacksheepr_1.18.0.zip PackageFileSize: 4.037 MiB