Package: blacksheepr Version: 1.18.0 Command: chmod a+r blacksheepr -R && F:\biocbuild\bbs-3.19-bioc\R\bin\R.exe CMD build --keep-empty-dirs --no-resave-data blacksheepr StartedAt: 2024-06-26 17:29:59 -0400 (Wed, 26 Jun 2024) EndedAt: 2024-06-26 17:33:00 -0400 (Wed, 26 Jun 2024) EllapsedTime: 181.3 seconds RetCode: 0 Status: OK PackageFile: blacksheepr_1.18.0.tar.gz PackageFileSize: 3.977 MiB