Package: blacksheepr Version: 1.18.0 Command: rm -rf blacksheepr.buildbin-libdir && mkdir blacksheepr.buildbin-libdir && E:\biocbuild\bbs-3.19-bioc\R\bin\R.exe CMD INSTALL --build --library=blacksheepr.buildbin-libdir blacksheepr_1.18.0.tar.gz StartedAt: 2024-10-17 07:26:47 -0400 (Thu, 17 Oct 2024) EndedAt: 2024-10-17 07:27:18 -0400 (Thu, 17 Oct 2024) EllapsedTime: 31.4 seconds RetCode: 0 Status: OK PackageFile: blacksheepr_1.18.0.zip PackageFileSize: 4.037 MiB