Package: blacksheepr Version: 1.18.0 Command: E:\biocbuild\bbs-3.19-bioc\R\bin\R.exe CMD INSTALL blacksheepr StartedAt: 2024-10-16 17:06:09 -0400 (Wed, 16 Oct 2024) EndedAt: 2024-10-16 17:06:44 -0400 (Wed, 16 Oct 2024) EllapsedTime: 35.2 seconds RetCode: 0 Status: OK