Package: bluster Version: 1.14.0 Command: /Library/Frameworks/R.framework/Resources/bin/R CMD build --keep-empty-dirs --no-resave-data bluster StartedAt: 2024-10-16 20:36:13 -0400 (Wed, 16 Oct 2024) EndedAt: 2024-10-16 20:38:34 -0400 (Wed, 16 Oct 2024) EllapsedTime: 141.4 seconds RetCode: 0 Status: OK PackageFile: bluster_1.14.0.tar.gz PackageFileSize: 3.202 MiB