Package: bluster Version: 1.14.0 Command: chmod a+r bluster -R && F:\biocbuild\bbs-3.19-bioc\R\bin\R.exe CMD build --keep-empty-dirs --no-resave-data bluster StartedAt: 2024-06-26 17:30:37 -0400 (Wed, 26 Jun 2024) EndedAt: 2024-06-26 17:33:10 -0400 (Wed, 26 Jun 2024) EllapsedTime: 152.4 seconds RetCode: 0 Status: OK PackageFile: bluster_1.14.0.tar.gz PackageFileSize: 1.66 MiB