Package: bluster Version: 1.14.0 Command: chmod a+r bluster -R && E:\biocbuild\bbs-3.19-bioc\R\bin\R.exe CMD build --keep-empty-dirs --no-resave-data bluster StartedAt: 2024-10-16 17:56:38 -0400 (Wed, 16 Oct 2024) EndedAt: 2024-10-16 17:59:11 -0400 (Wed, 16 Oct 2024) EllapsedTime: 153.5 seconds RetCode: 0 Status: OK PackageFile: bluster_1.14.0.tar.gz PackageFileSize: 1.659 MiB