Package: bluster Version: 1.14.0 Command: E:\biocbuild\bbs-3.19-bioc\R\bin\R.exe CMD check --no-multiarch --install=check:bluster.install-out.txt --library=E:\biocbuild\bbs-3.19-bioc\R\library --no-vignettes --timings bluster_1.14.0.tar.gz StartedAt: 2024-10-16 23:26:44 -0400 (Wed, 16 Oct 2024) EndedAt: 2024-10-16 23:30:30 -0400 (Wed, 16 Oct 2024) EllapsedTime: 226.0 seconds RetCode: 0 Status: OK CheckDir: bluster.Rcheck Warnings: 0