Package: brainflowprobes Version: 1.18.0 Command: /Library/Frameworks/R.framework/Resources/bin/R CMD check --install=check:brainflowprobes.install-out.txt --library=/Library/Frameworks/R.framework/Resources/library --no-vignettes --timings brainflowprobes_1.18.0.tar.gz StartedAt: 2024-10-17 14:31:39 -0400 (Thu, 17 Oct 2024) EndedAt: 2024-10-17 14:39:57 -0400 (Thu, 17 Oct 2024) EllapsedTime: 498.1 seconds RetCode: 1 Status: ERROR CheckDir: brainflowprobes.Rcheck Warnings: NA