Package: brainflowprobes Version: 1.18.0 Command: /Library/Frameworks/R.framework/Resources/bin/R CMD INSTALL brainflowprobes StartedAt: 2024-10-16 16:11:52 -0400 (Wed, 16 Oct 2024) EndedAt: 2024-10-16 16:13:45 -0400 (Wed, 16 Oct 2024) EllapsedTime: 113.9 seconds RetCode: 0 Status: OK