Package: brainflowprobes Version: 1.18.0 Command: /home/biocbuild/bbs-3.19-bioc/R/bin/R CMD check --install=check:brainflowprobes.install-out.txt --library=/home/biocbuild/bbs-3.19-bioc/R/site-library --timings brainflowprobes_1.18.0.tar.gz StartedAt: 2024-10-16 22:18:28 -0400 (Wed, 16 Oct 2024) EndedAt: 2024-10-16 22:27:07 -0400 (Wed, 16 Oct 2024) EllapsedTime: 519.1 seconds RetCode: 1 Status: ERROR CheckDir: brainflowprobes.Rcheck Warnings: NA