Package: brainflowprobes Version: 1.18.0 Command: /home/biocbuild/bbs-3.19-bioc/R/bin/R CMD INSTALL brainflowprobes StartedAt: 2024-10-16 16:24:49 -0400 (Wed, 16 Oct 2024) EndedAt: 2024-10-16 16:25:41 -0400 (Wed, 16 Oct 2024) EllapsedTime: 51.3 seconds RetCode: 0 Status: OK