Package: brendaDb Version: 1.18.0 Command: /Library/Frameworks/R.framework/Resources/bin/R CMD INSTALL brendaDb StartedAt: 2024-10-16 15:29:09 -0400 (Wed, 16 Oct 2024) EndedAt: 2024-10-16 15:29:37 -0400 (Wed, 16 Oct 2024) EllapsedTime: 28.6 seconds RetCode: 0 Status: OK