Package: cTRAP Version: 1.22.0 Command: /Library/Frameworks/R.framework/Resources/bin/R CMD build --keep-empty-dirs --no-resave-data cTRAP StartedAt: 2024-10-16 22:29:55 -0400 (Wed, 16 Oct 2024) EndedAt: 2024-10-16 22:32:26 -0400 (Wed, 16 Oct 2024) EllapsedTime: 151.0 seconds RetCode: 0 Status: OK PackageFile: cTRAP_1.22.0.tar.gz PackageFileSize: 5.299 MiB