Package: cTRAP Version: 1.22.0 Command: chmod a+r cTRAP -R && F:\biocbuild\bbs-3.19-bioc\R\bin\R.exe CMD build --keep-empty-dirs --no-resave-data cTRAP StartedAt: 2024-06-26 18:05:27 -0400 (Wed, 26 Jun 2024) EndedAt: 2024-06-26 18:13:34 -0400 (Wed, 26 Jun 2024) EllapsedTime: 487.1 seconds RetCode: 0 Status: OK PackageFile: cTRAP_1.22.0.tar.gz PackageFileSize: 3.946 MiB