Package: calm Version: 1.18.0 Command: rm -rf calm.buildbin-libdir && mkdir calm.buildbin-libdir && /Users/biocbuild/BBS/utils/build-universal.sh calm_1.18.0.tar.gz /Library/Frameworks/R.framework/Resources/bin/R calm.buildbin-libdir StartedAt: 2024-10-18 17:37:41 -0400 (Fri, 18 Oct 2024) EndedAt: 2024-10-18 17:37:49 -0400 (Fri, 18 Oct 2024) EllapsedTime: 7.7 seconds RetCode: 0 Status: OK PackageFile: calm_1.18.0.tgz PackageFileSize: 427.8 KiB