Package: cancerclass Version: 1.48.0 Command: /Library/Frameworks/R.framework/Resources/bin/R CMD check --install=check:cancerclass.install-out.txt --library=/Library/Frameworks/R.framework/Resources/library --no-vignettes --timings cancerclass_1.48.0.tar.gz StartedAt: 2024-10-17 15:00:42 -0400 (Thu, 17 Oct 2024) EndedAt: 2024-10-17 15:01:48 -0400 (Thu, 17 Oct 2024) EllapsedTime: 65.2 seconds RetCode: 0 Status: WARNINGS CheckDir: cancerclass.Rcheck Warnings: 1