Package: cancerclass Version: 1.48.0 Command: /home/biocbuild/R/R-beta-2024-04-15_r86425/bin/R CMD build --keep-empty-dirs --no-resave-data cancerclass StartedAt: 2024-05-08 23:03:18 -0000 (Wed, 08 May 2024) EndedAt: 2024-05-08 23:03:52 -0000 (Wed, 08 May 2024) EllapsedTime: 34.0 seconds RetCode: 0 Status: OK PackageFile: cancerclass_1.48.0.tar.gz PackageFileSize: 1.519 MiB