Package: cancerclass Version: 1.48.0 Command: /home/biocbuild/bbs-3.19-bioc/R/bin/R CMD INSTALL cancerclass StartedAt: 2024-10-16 15:51:08 -0400 (Wed, 16 Oct 2024) EndedAt: 2024-10-16 15:51:17 -0400 (Wed, 16 Oct 2024) EllapsedTime: 9.1 seconds RetCode: 0 Status: OK