Package: cancerclass Version: 1.48.0 Command: rm -rf cancerclass.buildbin-libdir && mkdir cancerclass.buildbin-libdir && F:\biocbuild\bbs-3.19-bioc\R\bin\R.exe CMD INSTALL --build --library=cancerclass.buildbin-libdir cancerclass_1.48.0.tar.gz StartedAt: 2024-06-27 07:56:33 -0400 (Thu, 27 Jun 2024) EndedAt: 2024-06-27 07:56:47 -0400 (Thu, 27 Jun 2024) EllapsedTime: 13.8 seconds RetCode: 0 Status: OK PackageFile: cancerclass_1.48.0.zip PackageFileSize: 1.522 MiB