Package: cardelino Version: 1.6.0 Command: rm -rf cardelino.buildbin-libdir && mkdir cardelino.buildbin-libdir && /Users/biocbuild/BBS/utils/build-universal.sh cardelino_1.6.0.tar.gz /Library/Frameworks/R.framework/Resources/bin/R cardelino.buildbin-libdir StartedAt: 2024-10-18 17:38:41 -0400 (Fri, 18 Oct 2024) EndedAt: 2024-10-18 17:39:35 -0400 (Fri, 18 Oct 2024) EllapsedTime: 54.2 seconds RetCode: 0 Status: OK PackageFile: cardelino_1.6.0.tgz PackageFileSize: 3.839 MiB