Package: cardelino Version: 1.6.0 Command: /Library/Frameworks/R.framework/Resources/bin/R CMD INSTALL cardelino StartedAt: 2024-10-16 18:11:50 -0400 (Wed, 16 Oct 2024) EndedAt: 2024-10-16 18:12:42 -0400 (Wed, 16 Oct 2024) EllapsedTime: 52.2 seconds RetCode: 0 Status: OK