Package: cardelino Version: 1.6.0 Command: rm -rf cardelino.buildbin-libdir && mkdir cardelino.buildbin-libdir && /Users/biocbuild/BBS/utils/build-universal.sh cardelino_1.6.0.tar.gz /Library/Frameworks/R.framework/Resources/bin/R cardelino.buildbin-libdir StartedAt: 2024-06-11 10:26:46 -0400 (Tue, 11 Jun 2024) EndedAt: 2024-06-11 10:28:09 -0400 (Tue, 11 Jun 2024) EllapsedTime: 83.3 seconds RetCode: 0 Status: OK PackageFile: cardelino_1.6.0.tgz PackageFileSize: 3.839 MiB