Package: cardelino Version: 1.6.0 Command: /home/biocbuild/R/R-beta-2024-04-15_r86425/bin/R CMD build --keep-empty-dirs --no-resave-data cardelino StartedAt: 2024-05-08 23:03:52 -0000 (Wed, 08 May 2024) EndedAt: 2024-05-08 23:05:54 -0000 (Wed, 08 May 2024) EllapsedTime: 122.2 seconds RetCode: 0 Status: OK PackageFile: cardelino_1.6.0.tar.gz PackageFileSize: 3.221 MiB