Package: cardelino Version: 1.6.0 Command: /Library/Frameworks/R.framework/Resources/bin/R CMD INSTALL cardelino StartedAt: 2024-10-16 16:27:34 -0400 (Wed, 16 Oct 2024) EndedAt: 2024-10-16 16:29:09 -0400 (Wed, 16 Oct 2024) EllapsedTime: 95.7 seconds RetCode: 0 Status: OK