Package: cardelino Version: 1.6.0 Command: /home/biocbuild/bbs-3.19-bioc/R/bin/R CMD build --keep-empty-dirs --no-resave-data cardelino StartedAt: 2024-10-16 17:29:40 -0400 (Wed, 16 Oct 2024) EndedAt: 2024-10-16 17:30:58 -0400 (Wed, 16 Oct 2024) EllapsedTime: 77.2 seconds RetCode: 0 Status: OK PackageFile: cardelino_1.6.0.tar.gz PackageFileSize: 3.576 MiB