Package: cardelino Version: 1.6.0 Command: /home/biocbuild/bbs-3.19-bioc/R/bin/R CMD check --install=check:cardelino.install-out.txt --library=/home/biocbuild/bbs-3.19-bioc/R/site-library --timings cardelino_1.6.0.tar.gz StartedAt: 2024-10-16 22:26:47 -0400 (Wed, 16 Oct 2024) EndedAt: 2024-10-16 22:34:13 -0400 (Wed, 16 Oct 2024) EllapsedTime: 446.0 seconds RetCode: 0 Status: OK CheckDir: cardelino.Rcheck Warnings: 0