Package: cardelino Version: 1.6.0 Command: /home/biocbuild/bbs-3.19-bioc/R/bin/R CMD INSTALL cardelino StartedAt: 2024-10-16 16:34:07 -0400 (Wed, 16 Oct 2024) EndedAt: 2024-10-16 16:34:51 -0400 (Wed, 16 Oct 2024) EllapsedTime: 43.6 seconds RetCode: 0 Status: OK