Package: cardelino Version: 1.6.0 Command: rm -rf cardelino.buildbin-libdir && mkdir cardelino.buildbin-libdir && E:\biocbuild\bbs-3.19-bioc\R\bin\R.exe CMD INSTALL --build --library=cardelino.buildbin-libdir cardelino_1.6.0.tar.gz StartedAt: 2024-10-17 07:28:44 -0400 (Thu, 17 Oct 2024) EndedAt: 2024-10-17 07:29:43 -0400 (Thu, 17 Oct 2024) EllapsedTime: 59.5 seconds RetCode: 0 Status: OK PackageFile: cardelino_1.6.0.zip PackageFileSize: 3.232 MiB