Package: cardelino Version: 1.6.0 Command: chmod a+r cardelino -R && E:\biocbuild\bbs-3.19-bioc\R\bin\R.exe CMD build --keep-empty-dirs --no-resave-data cardelino StartedAt: 2024-10-16 18:01:54 -0400 (Wed, 16 Oct 2024) EndedAt: 2024-10-16 18:03:46 -0400 (Wed, 16 Oct 2024) EllapsedTime: 112.5 seconds RetCode: 0 Status: OK PackageFile: cardelino_1.6.0.tar.gz PackageFileSize: 3.095 MiB