Package: cardelino Version: 1.6.0 Command: E:\biocbuild\bbs-3.19-bioc\R\bin\R.exe CMD check --no-multiarch --install=check:cardelino.install-out.txt --library=E:\biocbuild\bbs-3.19-bioc\R\library --no-vignettes --timings cardelino_1.6.0.tar.gz StartedAt: 2024-10-16 23:40:39 -0400 (Wed, 16 Oct 2024) EndedAt: 2024-10-16 23:49:03 -0400 (Wed, 16 Oct 2024) EllapsedTime: 504.5 seconds RetCode: 0 Status: OK CheckDir: cardelino.Rcheck Warnings: 0