Package: cardelino Version: 1.6.0 Command: E:\biocbuild\bbs-3.19-bioc\R\bin\R.exe CMD INSTALL cardelino StartedAt: 2024-10-16 17:06:05 -0400 (Wed, 16 Oct 2024) EndedAt: 2024-10-16 17:07:01 -0400 (Wed, 16 Oct 2024) EllapsedTime: 55.9 seconds RetCode: 0 Status: OK