Package: casper Version: 2.38.0 Command: /Library/Frameworks/R.framework/Resources/bin/R CMD INSTALL casper StartedAt: 2024-10-16 18:07:09 -0400 (Wed, 16 Oct 2024) EndedAt: 2024-10-16 18:08:21 -0400 (Wed, 16 Oct 2024) EllapsedTime: 72.7 seconds RetCode: 0 Status: OK