Package: categoryCompare Version: 1.48.0 Command: /Library/Frameworks/R.framework/Resources/bin/R CMD build --keep-empty-dirs --no-resave-data categoryCompare StartedAt: 2024-06-09 19:03:43 -0400 (Sun, 09 Jun 2024) EndedAt: 2024-06-09 19:07:16 -0400 (Sun, 09 Jun 2024) EllapsedTime: 213.3 seconds RetCode: 0 Status: OK PackageFile: categoryCompare_1.48.0.tar.gz PackageFileSize: 3.163 MiB